BEGIN:VCALENDAR
VERSION:2.0
PRODID:-//Red Iberoamericana de Programas Posconsumo de Medicamentos (RIPPM) - ECPv6.15.15//NONSGML v1.0//EN
CALSCALE:GREGORIAN
METHOD:PUBLISH
X-WR-CALNAME:Red Iberoamericana de Programas Posconsumo de Medicamentos (RIPPM)
X-ORIGINAL-URL:https://www.redippm.org
X-WR-CALDESC:Eventos para Red Iberoamericana de Programas Posconsumo de Medicamentos (RIPPM)
REFRESH-INTERVAL;VALUE=DURATION:PT1H
X-Robots-Tag:noindex
X-PUBLISHED-TTL:PT1H
BEGIN:VTIMEZONE
TZID:UTC
BEGIN:STANDARD
TZOFFSETFROM:+0000
TZOFFSETTO:+0000
TZNAME:UTC
DTSTART:20200101T000000
END:STANDARD
END:VTIMEZONE
BEGIN:VTIMEZONE
TZID:Europe/Madrid
BEGIN:DAYLIGHT
TZOFFSETFROM:+0100
TZOFFSETTO:+0200
TZNAME:CEST
DTSTART:20170326T010000
END:DAYLIGHT
BEGIN:STANDARD
TZOFFSETFROM:+0200
TZOFFSETTO:+0100
TZNAME:CET
DTSTART:20171029T010000
END:STANDARD
BEGIN:DAYLIGHT
TZOFFSETFROM:+0100
TZOFFSETTO:+0200
TZNAME:CEST
DTSTART:20180325T010000
END:DAYLIGHT
BEGIN:STANDARD
TZOFFSETFROM:+0200
TZOFFSETTO:+0100
TZNAME:CET
DTSTART:20181028T010000
END:STANDARD
BEGIN:DAYLIGHT
TZOFFSETFROM:+0100
TZOFFSETTO:+0200
TZNAME:CEST
DTSTART:20190331T010000
END:DAYLIGHT
BEGIN:STANDARD
TZOFFSETFROM:+0200
TZOFFSETTO:+0100
TZNAME:CET
DTSTART:20191027T010000
END:STANDARD
BEGIN:DAYLIGHT
TZOFFSETFROM:+0100
TZOFFSETTO:+0200
TZNAME:CEST
DTSTART:20200329T010000
END:DAYLIGHT
BEGIN:STANDARD
TZOFFSETFROM:+0200
TZOFFSETTO:+0100
TZNAME:CET
DTSTART:20201025T010000
END:STANDARD
END:VTIMEZONE
BEGIN:VTIMEZONE
TZID:America/Mexico_City
BEGIN:DAYLIGHT
TZOFFSETFROM:-0600
TZOFFSETTO:-0500
TZNAME:CDT
DTSTART:20160403T080000
END:DAYLIGHT
BEGIN:STANDARD
TZOFFSETFROM:-0500
TZOFFSETTO:-0600
TZNAME:CST
DTSTART:20161030T070000
END:STANDARD
BEGIN:DAYLIGHT
TZOFFSETFROM:-0600
TZOFFSETTO:-0500
TZNAME:CDT
DTSTART:20170402T080000
END:DAYLIGHT
BEGIN:STANDARD
TZOFFSETFROM:-0500
TZOFFSETTO:-0600
TZNAME:CST
DTSTART:20171029T070000
END:STANDARD
BEGIN:DAYLIGHT
TZOFFSETFROM:-0600
TZOFFSETTO:-0500
TZNAME:CDT
DTSTART:20180401T080000
END:DAYLIGHT
BEGIN:STANDARD
TZOFFSETFROM:-0500
TZOFFSETTO:-0600
TZNAME:CST
DTSTART:20181028T070000
END:STANDARD
END:VTIMEZONE
BEGIN:VTIMEZONE
TZID:America/Guayaquil
BEGIN:STANDARD
TZOFFSETFROM:-0500
TZOFFSETTO:-0500
TZNAME:-05
DTSTART:20160101T000000
END:STANDARD
END:VTIMEZONE
BEGIN:VEVENT
DTSTART;TZID=UTC:20221129T150000
DTEND;TZID=UTC:20221129T163000
DTSTAMP:20260425T163634
CREATED:20221114T092029Z
LAST-MODIFIED:20221114T092146Z
UID:1032-1669734000-1669739400@www.redippm.org
SUMMARY:III Foro de la PPM: Beneficios ambientales de los Programas posconsumo de medicamentos y su contribución a los ODS
DESCRIPTION:
URL:https://www.redippm.org/evento/iii-foro-de-la-ppm-beneficios-ambientales-de-los-programas-posconsumo-de-medicamentos/
LOCATION:Online
END:VEVENT
BEGIN:VEVENT
DTSTART;TZID=UTC:20220210T150000
DTEND;TZID=UTC:20220210T160000
DTSTAMP:20260425T163634
CREATED:20220203T121407Z
LAST-MODIFIED:20220203T121425Z
UID:938-1644505200-1644508800@www.redippm.org
SUMMARY:Sesión Técnica de la PPM
DESCRIPTION:
URL:https://www.redippm.org/evento/sesion-tecnica-de-la-ppm/
LOCATION:Virtual
END:VEVENT
BEGIN:VEVENT
DTSTART;TZID=UTC:20210427T140000
DTEND;TZID=UTC:20210427T153000
DTSTAMP:20260425T163634
CREATED:20210409T102912Z
LAST-MODIFIED:20210409T102912Z
UID:834-1619532000-1619537400@www.redippm.org
SUMMARY:II Foro de la PPM: La Responsabilidad Extendida del Productor aplicada a los medicamentos
DESCRIPTION:
URL:https://www.redippm.org/evento/ii-foro-de-la-ppm-la-responsabilidad-extendida-del-productor-aplicada-a-los-medicamentos/
LOCATION:Virtual
END:VEVENT
BEGIN:VEVENT
DTSTART;TZID=Europe/Madrid:20190226T160000
DTEND;TZID=Europe/Madrid:20190226T170000
DTSTAMP:20260425T163634
CREATED:20190111T124424Z
LAST-MODIFIED:20190111T124424Z
UID:441-1551196800-1551200400@www.redippm.org
SUMMARY:Asamblea General de la Red Iberoamericana de Programas Posconsumo de Medicamentos
DESCRIPTION:
URL:https://www.redippm.org/evento/asamblea-general-de-la-red-iberoamericana-de-programas-posconsumo-de-medicamentos-2/
LOCATION:Online
ATTACH;FMTTYPE=image/jpeg:https://www.redippm.org/wp-content/uploads/2017/09/LOGO-RIPPM-c2.jpg
END:VEVENT
BEGIN:VEVENT
DTSTART;TZID=Europe/Madrid:20190226T160000
DTEND;TZID=Europe/Madrid:20190226T170000
DTSTAMP:20260425T163634
CREATED:20190111T124233Z
LAST-MODIFIED:20190111T124233Z
UID:438-1551196800-1551200400@www.redippm.org
SUMMARY:Consejo Directivo de la Red Iberoamericana de Programas Posconsumo de Medicamentos
DESCRIPTION:
URL:https://www.redippm.org/evento/consejo-directivo-de-la-red-iberoamericana-de-programas-posconsumo-de-medicamentos/
LOCATION:Online
ATTACH;FMTTYPE=image/jpeg:https://www.redippm.org/wp-content/uploads/2017/09/LOGO-RIPPM-c2.jpg
END:VEVENT
BEGIN:VEVENT
DTSTART;VALUE=DATE:20180927
DTEND;VALUE=DATE:20180928
DTSTAMP:20260425T163634
CREATED:20180507T144905Z
LAST-MODIFIED:20180507T144930Z
UID:371-1538006400-1538092799@www.redippm.org
SUMMARY:Sesión Pública de la Red Iberoamericana de Programas Posconsumo de Medicamentos
DESCRIPTION:
URL:https://www.redippm.org/evento/sesion-publica-de-la-red-iberoamericana-de-programas-posconsumo-de-medicamentos-rippm/
LOCATION:Bogotá\, Bogotá\, Colombia
ATTACH;FMTTYPE=image/png:https://www.redippm.org/wp-content/uploads/2018/04/Imagen-RIPPM-web-2.png
END:VEVENT
BEGIN:VEVENT
DTSTART;VALUE=DATE:20180926
DTEND;VALUE=DATE:20180927
DTSTAMP:20260425T163634
CREATED:20180507T143049Z
LAST-MODIFIED:20180507T144953Z
UID:360-1537920000-1538006399@www.redippm.org
SUMMARY:Consejo Directivo de la Red Iberoamericana de Programas Posconsumo de Medicamentos
DESCRIPTION:
URL:https://www.redippm.org/evento/consejo-directivo-de-la-rippm/
LOCATION:Bogotá\, Bogotá\, Colombia
ATTACH;FMTTYPE=image/png:https://www.redippm.org/wp-content/uploads/2018/04/Imagen-RIPPM-web-2.png
END:VEVENT
BEGIN:VEVENT
DTSTART;VALUE=DATE:20180926
DTEND;VALUE=DATE:20180927
DTSTAMP:20260425T163634
CREATED:20180412T135203Z
LAST-MODIFIED:20180507T144704Z
UID:347-1537920000-1538006399@www.redippm.org
SUMMARY:Asamblea General de la Red Iberoamericana de Programas Posconsumo de Medicamentos
DESCRIPTION:
URL:https://www.redippm.org/evento/asamblea-general-de-la-red-iberoamericana-de-programas-posconsumo-de-medicamentos/
LOCATION:Bogotá\, Bogotá\, Colombia
ATTACH;FMTTYPE=image/png:https://www.redippm.org/wp-content/uploads/2018/04/Imagen-RIPPM-web-2.png
END:VEVENT
BEGIN:VEVENT
DTSTART;VALUE=DATE:20180725
DTEND;VALUE=DATE:20180726
DTSTAMP:20260425T163634
CREATED:20180725T111307Z
LAST-MODIFIED:20180725T111422Z
UID:421-1532476800-1532563199@www.redippm.org
SUMMARY:Comité Temático Económico de la Red Iberoamericana de Programas Posconsumo de Medicamentos
DESCRIPTION:
URL:https://www.redippm.org/evento/comite-tematico-economico-de-la-red-iberoamericana-de-programas-posconsumo-de-medicamentos-2/
ATTACH;FMTTYPE=image/jpeg:https://www.redippm.org/wp-content/uploads/2017/09/LOGO-RIPPM-c2.jpg
END:VEVENT
BEGIN:VEVENT
DTSTART;VALUE=DATE:20180626
DTEND;VALUE=DATE:20180630
DTSTAMP:20260425T163634
CREATED:20180625T071546Z
LAST-MODIFIED:20180629T123509Z
UID:383-1529971200-1530316799@www.redippm.org
SUMMARY:XII Encuentro EAMI
DESCRIPTION:O INFARMED – Autoridade Nacional do Medicamento e Produtos de Saúde\, I.P. en coordinación con la Agencia Española de Medicamentos y Productos Sanitarios (AEMPS)\, organizan el XII Encuentro de Autoridades Competentes en medicamentos de los Países Iberoamericanos\, que tendrá lugar en Lisboa\, del 26 al 29 de junio de 2018. \nLeer más… \nMiércoles 27 de junio\, de 17:00 a 18:00 horas\, en la Sala Alfama \nMesa abierta a la discusión con la industria farmacéutica «Red Iberoamericana de Programas Posconsumo de Medicamentos» \n \nDescarga la ponencia en PDF.
URL:https://www.redippm.org/evento/xii-encuentro-eami/
ATTACH;FMTTYPE=image/png:https://www.redippm.org/wp-content/uploads/2018/06/Logo_Oficial_EAMI_Lisboa.png
END:VEVENT
BEGIN:VEVENT
DTSTART;TZID=Europe/Madrid:20180507T160000
DTEND;TZID=Europe/Madrid:20180507T180000
DTSTAMP:20260425T163634
CREATED:20180507T142612Z
LAST-MODIFIED:20180507T142612Z
UID:358-1525708800-1525716000@www.redippm.org
SUMMARY:Comité Temático Económico de la Red Iberoamericana de Programas Posconsumo de Medicamentos
DESCRIPTION:
URL:https://www.redippm.org/evento/comite-tematico-economico-de-la-red-iberoamericana-de-programas-posconsumo-de-medicamentos/
LOCATION:Online
ATTACH;FMTTYPE=image/jpeg:https://www.redippm.org/wp-content/uploads/2017/09/LOGO-RIPPM-c2.jpg
END:VEVENT
BEGIN:VEVENT
DTSTART;TZID=Europe/Madrid:20180417T160000
DTEND;TZID=Europe/Madrid:20180417T180000
DTSTAMP:20260425T163634
CREATED:20180412T133550Z
LAST-MODIFIED:20180412T135759Z
UID:335-1523980800-1523988000@www.redippm.org
SUMMARY:Reunión del Consejo Directivo de la Red Iberoamericana de Programas Posconsumo de Medicamentos
DESCRIPTION:
URL:https://www.redippm.org/evento/reunion-del-consejo-directivo-de-la-rippm/
LOCATION:Online
ATTACH;FMTTYPE=image/jpeg:https://www.redippm.org/wp-content/uploads/2018/04/sustainability-3310049.jpg
END:VEVENT
BEGIN:VEVENT
DTSTART;VALUE=DATE:20180320
DTEND;VALUE=DATE:20180321
DTSTAMP:20260425T163634
CREATED:20180412T134710Z
LAST-MODIFIED:20180412T134933Z
UID:340-1521504000-1521590399@www.redippm.org
SUMMARY:Comité de Legislación de la Red Iberoamericana de Programas Posconsumo de Medicamentos
DESCRIPTION:
URL:https://www.redippm.org/evento/reunion-comite-de-legislacion-de-la-rippm/
ATTACH;FMTTYPE=image/jpeg:https://www.redippm.org/wp-content/uploads/2017/09/LOGO-RIPPM-c2.jpg
END:VEVENT
BEGIN:VEVENT
DTSTART;TZID=Europe/Madrid:20180130T160000
DTEND;TZID=Europe/Madrid:20180130T173000
DTSTAMP:20260425T163634
CREATED:20180222T154104Z
LAST-MODIFIED:20180222T154149Z
UID:325-1517328000-1517333400@www.redippm.org
SUMMARY:Comité Económico de la Red Iberoamericana de Programas Posconsumo de Medicamentos
DESCRIPTION:Se revisarán aspectos económicos de los programas y líneas de acción de la Red para seguir promoviendo la sostenibilidad y el cuidado del medio ambiente. \nSesión online.
URL:https://www.redippm.org/evento/comite-economico-de-la-red-iberoamericana-de-programas-posconsumo-de-medicamentos/
LOCATION:Online
ATTACH;FMTTYPE=image/jpeg:https://www.redippm.org/wp-content/uploads/2017/09/LOGO-RIPPM-c2.jpg
END:VEVENT
BEGIN:VEVENT
DTSTART;TZID=Europe/Madrid:20180123T160000
DTEND;TZID=Europe/Madrid:20180123T180000
DTSTAMP:20260425T163634
CREATED:20180222T153808Z
LAST-MODIFIED:20180222T154227Z
UID:323-1516723200-1516730400@www.redippm.org
SUMMARY:Comité Directivo de la Red Iberoamericana de Programas Posconsumo de Medicamentos
DESCRIPTION:Se analizarán líneas de acción a emprender por la Red y actuaciones de cara al futuro. \nSesión online.
URL:https://www.redippm.org/evento/comite-directivo-de-la-red-iberoamericana-de-programas-posconsumo-de-medicamentos/
LOCATION:Online
ATTACH;FMTTYPE=image/jpeg:https://www.redippm.org/wp-content/uploads/2017/09/LOGO-RIPPM-c2.jpg
END:VEVENT
BEGIN:VEVENT
DTSTART;VALUE=DATE:20170926
DTEND;VALUE=DATE:20170927
DTSTAMP:20260425T163634
CREATED:20170907T165708Z
LAST-MODIFIED:20170908T121329Z
UID:212-1506384000-1506470399@www.redippm.org
SUMMARY:II Asamblea General de la RIPPM
DESCRIPTION:SESIÓN PÚBLICA DE LA ASAMBLEA GENERAL DE LA\nRED IBEROAMERICANA DE PROGRAMAS POSCONSUMO DE MEDICAMENTOS \n26 de septiembre de 2017 \nLe invitamos a asistir a esta Sesión Pública en la que se analizarán los resultados alcanzados por la RIPPM desde su creación\, y los programas integrantes de la misma presentarán el estado en que se encuentra la gestión de los residuos de medicamentos y sus envases en sus respectivos países: Colombia\, España\, México y Portugal. \nAsimismo\, está previsto la presentación de un «Estudio comparativo entre los Programas adheridos» y se tendrá la oportunidad de debatir sobre el desarrollo de la Red\, participando en los coloquios o solicitando la celebración de reuniones bilaterales donde se informaría sobre la colaboración que esta organización puede prestar a los países que deseen organizar la correcta gestión de estos residuos. \n\nPROGRAMA\n8:00 – 10:00 | Sesión Desayuno \n\nBienvenida y relación de asistentes\nPresentación de la RIPPM\nEstudio comparativo entre programas adheridos\nColoquio\n\n10:00 – 11:00 | Experiencias de los Programas Adheridos \n\nCorporación Punto Azul\nSIGRE\nSINGREM\n\n11:00 – 11:30 | Pausa Café \n11:30 – 11:50 | Experiencias de los Programas Adheridos \n\nValormed\n\n11:50 – 13:00 | Aplicación de las experiencias a la creación y/o mejora de programas \n15:00 – 17:00 | Reuniones con Terceros Países\n(Reuniones bilaterales informativas previa solicitud en el formulario de inscripción) \n  \nFORMULARIO DE INSCRIPCIÓN\n> \n 
URL:https://www.redippm.org/evento/asamblea-general-de-la-rippm/
LOCATION:Hotel Marquis Reforma (Salón Paseo)\, Paseo de la Reforma\, 465\, Ciudad de México\, 06500\, México
ATTACH;FMTTYPE=image/png:https://www.redippm.org/wp-content/uploads/2017/09/world-1185076_1280.png
END:VEVENT
BEGIN:VEVENT
DTSTART;VALUE=DATE:20170822
DTEND;VALUE=DATE:20170825
DTSTAMP:20260425T163634
CREATED:20171116T115523Z
LAST-MODIFIED:20171116T124930Z
UID:306-1503360000-1503619199@www.redippm.org
SUMMARY:Premios Latinoamérica Verde
DESCRIPTION:  \nCELEBRACIÓN DE LOS PREMIOS LATINOAMÉRICA VERDE 2017\n22-24 de agosto de 2017 \nLos Premios Latinoamérica Verde buscan reconocer públicamente los mejores proyectos sociales y ambientales que se llevan a cabo en esta región y que aportan mayor contribución a los Objetivos de Desarrollo Sostenible (ODS) de Naciones Unidas. \nAsimismo este espacio es un foro de encuentro en el que se discutirán temas socio-ambientales de actualidad\, se impartirán distintas charlas y se expondrán los 500 mejores proyectos ambientales que han optado a estos premios. \nEn este marco\, la Red Iberoamericana de Programas Poscumo de Medicamentos presentará su proyecto “Apoyo a la creación y desarrollo de Programas Posconsumo de Medicamentos en Iberoamérica” que ha sido 5ª en su categoría y 34ª a nivel general\, entre las 2.409 que optaban a los premios. \nAcceder al programa del evento.
URL:https://www.redippm.org/evento/premios-latinoamerica-verde/
LOCATION:Hotel Hilton Colon Guayaquil\, Av. Francisco de Orellana Mz. 111\,\, Guayaquil\, 090512\, Ecuador
ATTACH;FMTTYPE=image/jpeg:https://www.redippm.org/wp-content/uploads/2017/11/Premios.jpg
END:VEVENT
END:VCALENDAR