BEGIN:VCALENDAR
VERSION:2.0
PRODID:-//Red Iberoamericana de Programas Posconsumo de Medicamentos (RIPPM) - ECPv6.15.15//NONSGML v1.0//EN
CALSCALE:GREGORIAN
METHOD:PUBLISH
X-WR-CALNAME:Red Iberoamericana de Programas Posconsumo de Medicamentos (RIPPM)
X-ORIGINAL-URL:https://www.redippm.org
X-WR-CALDESC:Eventos para Red Iberoamericana de Programas Posconsumo de Medicamentos (RIPPM)
REFRESH-INTERVAL;VALUE=DURATION:PT1H
X-Robots-Tag:noindex
X-PUBLISHED-TTL:PT1H
BEGIN:VTIMEZONE
TZID:UTC
BEGIN:STANDARD
TZOFFSETFROM:+0000
TZOFFSETTO:+0000
TZNAME:UTC
DTSTART:20200101T000000
END:STANDARD
END:VTIMEZONE
BEGIN:VEVENT
DTSTART;TZID=UTC:20210427T140000
DTEND;TZID=UTC:20210427T153000
DTSTAMP:20260425T151653
CREATED:20210409T102912Z
LAST-MODIFIED:20210409T102912Z
UID:834-1619532000-1619537400@www.redippm.org
SUMMARY:II Foro de la PPM: La Responsabilidad Extendida del Productor aplicada a los medicamentos
DESCRIPTION:
URL:https://www.redippm.org/evento/ii-foro-de-la-ppm-la-responsabilidad-extendida-del-productor-aplicada-a-los-medicamentos/
LOCATION:Virtual
END:VEVENT
BEGIN:VEVENT
DTSTART;TZID=UTC:20220210T150000
DTEND;TZID=UTC:20220210T160000
DTSTAMP:20260425T151653
CREATED:20220203T121407Z
LAST-MODIFIED:20220203T121425Z
UID:938-1644505200-1644508800@www.redippm.org
SUMMARY:Sesión Técnica de la PPM
DESCRIPTION:
URL:https://www.redippm.org/evento/sesion-tecnica-de-la-ppm/
LOCATION:Virtual
END:VEVENT
BEGIN:VEVENT
DTSTART;TZID=UTC:20221129T150000
DTEND;TZID=UTC:20221129T163000
DTSTAMP:20260425T151653
CREATED:20221114T092029Z
LAST-MODIFIED:20221114T092146Z
UID:1032-1669734000-1669739400@www.redippm.org
SUMMARY:III Foro de la PPM: Beneficios ambientales de los Programas posconsumo de medicamentos y su contribución a los ODS
DESCRIPTION:
URL:https://www.redippm.org/evento/iii-foro-de-la-ppm-beneficios-ambientales-de-los-programas-posconsumo-de-medicamentos/
LOCATION:Online
END:VEVENT
END:VCALENDAR